BEGIN:VCALENDAR
VERSION:2.0
PRODID:icalendar-ruby
CALSCALE:GREGORIAN
BEGIN:VEVENT
DTSTAMP:20260422T084800Z
UID:6239ee57-14d2-468d-b448-aab8fb0099c6
DTSTART;VALUE=DATE:20250313
DESCRIPTION:Property ID# 587946\, Locatoin: 31 Main Street Upper Hutt at 1p
 m Thursday the 13th March\, Time: 12:00PM
SUMMARY:Auction for 
END:VEVENT
END:VCALENDAR
