BEGIN:VCALENDAR
VERSION:2.0
PRODID:icalendar-ruby
CALSCALE:GREGORIAN
BEGIN:VEVENT
DTSTAMP:20260425T111313Z
UID:5f0868c8-6cc1-4177-b1fb-5e7370d975ed
DTSTART;VALUE=DATE:20231010
DESCRIPTION:Property ID# 562376\, Time: 3:00PM
SUMMARY:Auction for 
END:VEVENT
END:VCALENDAR
