BEGIN:VCALENDAR
VERSION:2.0
PRODID:icalendar-ruby
CALSCALE:GREGORIAN
BEGIN:VEVENT
DTSTAMP:20260421T184717Z
UID:004afd9b-aabb-415d-8037-c46028dc3cc6
DTSTART;VALUE=DATE:20221214
DESCRIPTION:Property ID# 548514\, Time: 12:00PM
SUMMARY:Auction for 
END:VEVENT
END:VCALENDAR
