BEGIN:VCALENDAR
VERSION:2.0
PRODID:icalendar-ruby
CALSCALE:GREGORIAN
BEGIN:VEVENT
DTSTAMP:20260421T184931Z
UID:545ebc1a-1738-448e-b851-5a7f3c8efb8b
DTSTART;VALUE=DATE:20221102
DESCRIPTION:Property ID# 545080\, Locatoin: Harcourts Building - 577 High S
 treet\, Lower Hutt\, Time: 12:00PM
SUMMARY:Auction for 
END:VEVENT
END:VCALENDAR
