BEGIN:VCALENDAR
VERSION:2.0
PRODID:icalendar-ruby
CALSCALE:GREGORIAN
BEGIN:VEVENT
DTSTAMP:20260421T184916Z
UID:245ac490-4990-49d2-bf7f-260e25b52aec
DTSTART;VALUE=DATE:20221026
DESCRIPTION:Property ID# 542992\, Locatoin: Harcourts Building - 516 High S
 treet\, Lower Hutt\, Time: 12:00PM
SUMMARY:Auction for 
END:VEVENT
END:VCALENDAR
