BEGIN:VCALENDAR
VERSION:2.0
PRODID:icalendar-ruby
CALSCALE:GREGORIAN
BEGIN:VEVENT
DTSTAMP:20260421T185151Z
UID:e25d3345-c55f-4c89-aa30-c81681d69d94
DTSTART;VALUE=DATE:20220405
DESCRIPTION:Property ID# 531357\, Locatoin: Harcourts Building - 11 King St
 reet - Upper Hutt\, Time: 2:00PM
SUMMARY:Auction for 
END:VEVENT
END:VCALENDAR
