BEGIN:VCALENDAR
VERSION:2.0
PRODID:icalendar-ruby
CALSCALE:GREGORIAN
BEGIN:VEVENT
DTSTAMP:20260422T233444Z
UID:6a02c63f-6c9c-46e7-9af9-d3b440b316b0
DTSTART;VALUE=DATE:20201210
DESCRIPTION:Property ID# 497241\, Locatoin: Ray White Hutt City Office\, 9-
 11 Kings Crescent\, Lower Hutt\, Time: 12:00PM
SUMMARY:Auction for 
END:VEVENT
END:VCALENDAR
