BEGIN:VCALENDAR
VERSION:2.0
PRODID:icalendar-ruby
CALSCALE:GREGORIAN
BEGIN:VEVENT
DTSTAMP:20260422T233612Z
UID:e2b8e313-64b1-47a1-aa4b-4db8ae5fd79e
DTSTART;VALUE=DATE:20201029
DESCRIPTION:Property ID# 491955\, Locatoin: Ray White Hutt City Office\, 9-
 11 Kings Crescent\, Lower Hutt\, Time: 12:00PM
SUMMARY:Auction for 
END:VEVENT
END:VCALENDAR
