BEGIN:VCALENDAR
VERSION:2.0
PRODID:icalendar-ruby
CALSCALE:GREGORIAN
BEGIN:VEVENT
DTSTAMP:20260422T233607Z
UID:b2f4f415-f8c0-4d71-aa2d-742d271290c1
DTSTART;VALUE=DATE:20201022
DESCRIPTION:Property ID# 491773\, Locatoin: Ray White Hutt City Office\, 9-
 11 Kings Crescent\, Lower Hutt\, Time: 2:00AM
SUMMARY:Auction for 
END:VEVENT
END:VCALENDAR
