BEGIN:VCALENDAR
VERSION:2.0
PRODID:icalendar-ruby
CALSCALE:GREGORIAN
BEGIN:VEVENT
DTSTAMP:20260422T233349Z
UID:81385214-a9bb-4bfd-9d90-23ee95c77eee
DTSTART;VALUE=DATE:20200716
DESCRIPTION:Property ID# 483942\, Locatoin: Ray White Hutt City Office\, 9-
 11 Kings Crescent\, Lower Hutt\, Time: 2:00PM
SUMMARY:Auction for 
END:VEVENT
END:VCALENDAR
