BEGIN:VCALENDAR
VERSION:2.0
PRODID:icalendar-ruby
CALSCALE:GREGORIAN
BEGIN:VEVENT
DTSTAMP:20260422T233528Z
UID:9a47d7ae-3f04-4a4a-8796-b44d3a174b78
DTSTART;VALUE=DATE:20200619
DESCRIPTION:Property ID# 482381\, Locatoin: Ray White Hutt City Office\, 9-
 11 Kings Crescent\, Lower Hutt\, Time: 2:00PM
SUMMARY:Auction for 
END:VEVENT
END:VCALENDAR
